BEGIN:VCALENDAR
VERSION:2.0
PRODID:-//Date iCal//NONSGML kigkonsult.se iCalcreator 2.20.2//
METHOD:PUBLISH
X-WR-CALNAME;VALUE=TEXT:CFMEU
BEGIN:VTIMEZONE
TZID:Australia/Brisbane
BEGIN:STANDARD
DTSTART:19920301T030000
TZOFFSETFROM:+1100
TZOFFSETTO:+1000
TZNAME:AEST
END:STANDARD
END:VTIMEZONE
BEGIN:VEVENT
UID:calendar.1012087.field_event_date_time.0@qnt.cfmeu.org.au
CREATED:20180913T015245Z
DESCRIPTION:School Holidays (QLD)
DTSTART;VALUE=DATE:20191214
DTEND;VALUE=DATE:20200128
LAST-MODIFIED:20200109T221850Z
SUMMARY:School Holidays (QLD)
URL;TYPE=URI:https://qnt.cfmeu.org.au/events/school-holidays-qld-8
END:VEVENT
BEGIN:VEVENT
UID:calendar.1012122.field_event_date_time.0@qnt.cfmeu.org.au
CREATED:20200109T061508Z
DESCRIPTION:Public Holiday
DTSTART;VALUE=DATE:20200101
DTEND;VALUE=DATE:20200102
LAST-MODIFIED:20200109T061908Z
SUMMARY:Public Holiday
URL;TYPE=URI:https://qnt.cfmeu.org.au/events/public-holiday-7
END:VEVENT
BEGIN:VEVENT
UID:calendar.1012123.field_event_date_time.0@qnt.cfmeu.org.au
CREATED:20200109T063443Z
DESCRIPTION:EBA RDO
DTSTART;VALUE=DATE:20200102
DTEND;VALUE=DATE:20200103
LAST-MODIFIED:20200109T063443Z
SUMMARY:EBA RDO
URL;TYPE=URI:https://qnt.cfmeu.org.au/events/eba-rdo-61
END:VEVENT
BEGIN:VEVENT
UID:calendar.1012124.field_event_date_time.0@qnt.cfmeu.org.au
CREATED:20200109T063532Z
DESCRIPTION:EBA RDO
DTSTART;VALUE=DATE:20200103
DTEND;VALUE=DATE:20200104
LAST-MODIFIED:20200109T063756Z
SUMMARY:EBA RDO
URL;TYPE=URI:https://qnt.cfmeu.org.au/events/eba-rdo-62
END:VEVENT
BEGIN:VEVENT
UID:calendar.1012125.field_event_date_time.0@qnt.cfmeu.org.au
CREATED:20200109T064239Z
DESCRIPTION:Public Holiday
DTSTART;VALUE=DATE:20200127
DTEND;VALUE=DATE:20200128
LAST-MODIFIED:20200109T064239Z
SUMMARY:Public Holiday
URL;TYPE=URI:https://qnt.cfmeu.org.au/events/public-holiday-8
END:VEVENT
BEGIN:VEVENT
UID:calendar.1012126.field_event_date_time.0@qnt.cfmeu.org.au
CREATED:20200109T222040Z
DESCRIPTION:EBA RDO
DTSTART;VALUE=DATE:20200128
DTEND;VALUE=DATE:20200129
LAST-MODIFIED:20200109T222040Z
SUMMARY:EBA RDO
URL;TYPE=URI:https://qnt.cfmeu.org.au/events/eba-rdo-63
END:VEVENT
BEGIN:VEVENT
UID:calendar.1012127.field_event_date_time.0@qnt.cfmeu.org.au
CREATED:20200109T222437Z
DESCRIPTION:Industry RDO
DTSTART;VALUE=DATE:20200128
DTEND;VALUE=DATE:20200129
LAST-MODIFIED:20200109T222437Z
SUMMARY:Industry RDO
URL;TYPE=URI:https://qnt.cfmeu.org.au/events/industry-rdo-30
END:VEVENT
BEGIN:VEVENT
UID:calendar.1012128.field_event_date_time.0@qnt.cfmeu.org.au
CREATED:20200109T223139Z
DESCRIPTION:EBA RDO
DTSTART;VALUE=DATE:20200217
DTEND;VALUE=DATE:20200218
LAST-MODIFIED:20200109T223139Z
SUMMARY:EBA RDO
URL;TYPE=URI:https://qnt.cfmeu.org.au/events/eba-rdo-64
END:VEVENT
BEGIN:VEVENT
UID:calendar.1012129.field_event_date_time.0@qnt.cfmeu.org.au
CREATED:20200109T223238Z
DESCRIPTION:Industry RDO
DTSTART;VALUE=DATE:20200217
DTEND;VALUE=DATE:20200218
LAST-MODIFIED:20200109T223238Z
SUMMARY:Industry RDO
URL;TYPE=URI:https://qnt.cfmeu.org.au/events/industry-rdo-31
END:VEVENT
BEGIN:VEVENT
UID:calendar.1012131.field_event_date_time.0@qnt.cfmeu.org.au
CREATED:20200109T223409Z
DESCRIPTION:EBA RDO
DTSTART;VALUE=DATE:20200316
DTEND;VALUE=DATE:20200317
LAST-MODIFIED:20200109T223409Z
SUMMARY:EBA RDO
URL;TYPE=URI:https://qnt.cfmeu.org.au/events/eba-rdo-66
END:VEVENT
BEGIN:VEVENT
UID:calendar.1012132.field_event_date_time.0@qnt.cfmeu.org.au
CREATED:20200109T223519Z
DESCRIPTION:Industry RDO
DTSTART;VALUE=DATE:20200316
DTEND;VALUE=DATE:20200317
LAST-MODIFIED:20200109T223519Z
SUMMARY:Industry RDO
URL;TYPE=URI:https://qnt.cfmeu.org.au/events/industry-rdo-32
END:VEVENT
BEGIN:VEVENT
UID:calendar.1012133.field_event_date_time.0@qnt.cfmeu.org.au
CREATED:20200109T223829Z
DESCRIPTION:School Holidays (QLD)
DTSTART;VALUE=DATE:20200404
DTEND;VALUE=DATE:20200420
LAST-MODIFIED:20200109T223829Z
SUMMARY:School Holidays (QLD)
URL;TYPE=URI:https://qnt.cfmeu.org.au/events/school-holidays-qld-9
END:VEVENT
BEGIN:VEVENT
UID:calendar.1012134.field_event_date_time.0@qnt.cfmeu.org.au
CREATED:20200109T224131Z
DESCRIPTION:Good Friday
DTSTART;VALUE=DATE:20200410
DTEND;VALUE=DATE:20200411
LAST-MODIFIED:20200109T224131Z
SUMMARY:Good Friday
URL;TYPE=URI:https://qnt.cfmeu.org.au/events/good-friday-1
END:VEVENT
BEGIN:VEVENT
UID:calendar.1012135.field_event_date_time.0@qnt.cfmeu.org.au
CREATED:20200109T224323Z
DESCRIPTION:Easter Saturday
DTSTART;VALUE=DATE:20200411
DTEND;VALUE=DATE:20200412
LAST-MODIFIED:20200109T224323Z
SUMMARY:Easter Saturday
URL;TYPE=URI:https://qnt.cfmeu.org.au/events/easter-saturday-0
END:VEVENT
BEGIN:VEVENT
UID:calendar.1012136.field_event_date_time.0@qnt.cfmeu.org.au
CREATED:20200109T224444Z
DESCRIPTION:Easter Sunday
DTSTART;VALUE=DATE:20200412
DTEND;VALUE=DATE:20200413
LAST-MODIFIED:20200109T224444Z
SUMMARY:Easter Sunday
URL;TYPE=URI:https://qnt.cfmeu.org.au/events/easter-sunday
END:VEVENT
BEGIN:VEVENT
UID:calendar.1012137.field_event_date_time.0@qnt.cfmeu.org.au
CREATED:20200109T224555Z
DESCRIPTION:Easter Monday
DTSTART;VALUE=DATE:20200413
DTEND;VALUE=DATE:20200414
LAST-MODIFIED:20200109T224555Z
SUMMARY:Easter Monday
URL;TYPE=URI:https://qnt.cfmeu.org.au/events/easter-monday-0
END:VEVENT
BEGIN:VEVENT
UID:calendar.1012138.field_event_date_time.0@qnt.cfmeu.org.au
CREATED:20200109T224723Z
DESCRIPTION:EBA RDO
DTSTART;VALUE=DATE:20200414
DTEND;VALUE=DATE:20200415
LAST-MODIFIED:20200109T224723Z
SUMMARY:EBA RDO
URL;TYPE=URI:https://qnt.cfmeu.org.au/events/eba-rdo-65
END:VEVENT
BEGIN:VEVENT
UID:calendar.1012139.field_event_date_time.0@qnt.cfmeu.org.au
CREATED:20200109T224946Z
DESCRIPTION:Industry RDO
DTSTART;VALUE=DATE:20200414
DTEND;VALUE=DATE:20200415
LAST-MODIFIED:20200109T225039Z
SUMMARY:Industry RDO
URL;TYPE=URI:https://qnt.cfmeu.org.au/events/industry-rdo-33
END:VEVENT
BEGIN:VEVENT
UID:calendar.1012140.field_event_date_time.0@qnt.cfmeu.org.au
CREATED:20200109T225141Z
DESCRIPTION:EBA RDO
DTSTART;VALUE=DATE:20200415
DTEND;VALUE=DATE:20200416
LAST-MODIFIED:20200109T225141Z
SUMMARY:EBA RDO
URL;TYPE=URI:https://qnt.cfmeu.org.au/events/eba-rdo-67
END:VEVENT
BEGIN:VEVENT
UID:calendar.1012141.field_event_date_time.0@qnt.cfmeu.org.au
CREATED:20200109T225237Z
DESCRIPTION:EBA RDO
DTSTART;VALUE=DATE:20200416
DTEND;VALUE=DATE:20200417
LAST-MODIFIED:20200109T225237Z
SUMMARY:EBA RDO
URL;TYPE=URI:https://qnt.cfmeu.org.au/events/eba-rdo-68
END:VEVENT
BEGIN:VEVENT
UID:calendar.1012142.field_event_date_time.0@qnt.cfmeu.org.au
CREATED:20200109T225304Z
DESCRIPTION:EBA RDO
DTSTART;VALUE=DATE:20200417
DTEND;VALUE=DATE:20200418
LAST-MODIFIED:20200109T225304Z
SUMMARY:EBA RDO
URL;TYPE=URI:https://qnt.cfmeu.org.au/events/eba-rdo-69
END:VEVENT
BEGIN:VEVENT
UID:calendar.1012143.field_event_date_time.0@qnt.cfmeu.org.au
CREATED:20200109T225550Z
DESCRIPTION:ANZAC Day
DTSTART;VALUE=DATE:20200425
DTEND;VALUE=DATE:20200426
LAST-MODIFIED:20200109T225550Z
SUMMARY:ANZAC Day
URL;TYPE=URI:https://qnt.cfmeu.org.au/events/anzac-day-0
END:VEVENT
BEGIN:VEVENT
UID:calendar.1012144.field_event_date_time.0@qnt.cfmeu.org.au
CREATED:20200109T225704Z
DESCRIPTION:May Day (QLD & NT)
DTSTART;VALUE=DATE:20200504
DTEND;VALUE=DATE:20200505
LAST-MODIFIED:20200109T225704Z
SUMMARY:May Day (QLD & NT)
URL;TYPE=URI:https://qnt.cfmeu.org.au/events/may-day-qld-nt-0
END:VEVENT
BEGIN:VEVENT
UID:calendar.1012145.field_event_date_time.0@qnt.cfmeu.org.au
CREATED:20200109T225846Z
DESCRIPTION:EBA RDO
DTSTART;VALUE=DATE:20200518
DTEND;VALUE=DATE:20200519
LAST-MODIFIED:20200109T225846Z
SUMMARY:EBA RDO
URL;TYPE=URI:https://qnt.cfmeu.org.au/events/eba-rdo-70
END:VEVENT
BEGIN:VEVENT
UID:calendar.1012146.field_event_date_time.0@qnt.cfmeu.org.au
CREATED:20200109T225940Z
DESCRIPTION:Industry RDO
DTSTART;VALUE=DATE:20200518
DTEND;VALUE=DATE:20200519
LAST-MODIFIED:20200109T225940Z
SUMMARY:Industry RDO
URL;TYPE=URI:https://qnt.cfmeu.org.au/events/industry-rdo-34
END:VEVENT
BEGIN:VEVENT
UID:calendar.1012147.field_event_date_time.0@qnt.cfmeu.org.au
CREATED:20200109T230202Z
DESCRIPTION:Public Holiday NT
DTSTART;VALUE=DATE:20200608
DTEND;VALUE=DATE:20200609
LAST-MODIFIED:20200109T230202Z
SUMMARY:Public Holiday NT
URL;TYPE=URI:https://qnt.cfmeu.org.au/events/public-holiday-nt-1
END:VEVENT
BEGIN:VEVENT
UID:calendar.1012148.field_event_date_time.0@qnt.cfmeu.org.au
CREATED:20200109T230320Z
DESCRIPTION:Industry RDO
DTSTART;VALUE=DATE:20200608
DTEND;VALUE=DATE:20200609
LAST-MODIFIED:20200109T230320Z
SUMMARY:Industry RDO
URL;TYPE=URI:https://qnt.cfmeu.org.au/events/industry-rdo-35
END:VEVENT
BEGIN:VEVENT
UID:calendar.1012151.field_event_date_time.0@qnt.cfmeu.org.au
CREATED:20200109T230806Z
DESCRIPTION:School Holidays (QLD)
DTSTART;VALUE=DATE:20200627
DTEND;VALUE=DATE:20200713
LAST-MODIFIED:20200109T230806Z
SUMMARY:School Holidays (QLD)
URL;TYPE=URI:https://qnt.cfmeu.org.au/events/school-holidays-qld-10
END:VEVENT
BEGIN:VEVENT
UID:calendar.1012152.field_event_date_time.0@qnt.cfmeu.org.au
CREATED:20200109T231107Z
DESCRIPTION:EBA RDO
DTSTART;VALUE=DATE:20200706
DTEND;VALUE=DATE:20200707
LAST-MODIFIED:20200109T231107Z
SUMMARY:EBA RDO
URL;TYPE=URI:https://qnt.cfmeu.org.au/events/eba-rdo-71
END:VEVENT
BEGIN:VEVENT
UID:calendar.1012153.field_event_date_time.0@qnt.cfmeu.org.au
CREATED:20200109T231233Z
DESCRIPTION:Industry RDO
DTSTART;VALUE=DATE:20200706
DTEND;VALUE=DATE:20200707
LAST-MODIFIED:20200109T231233Z
SUMMARY:Industry RDO
URL;TYPE=URI:https://qnt.cfmeu.org.au/events/industry-rdo-36
END:VEVENT
BEGIN:VEVENT
UID:calendar.1012154.field_event_date_time.0@qnt.cfmeu.org.au
CREATED:20200109T231732Z
DESCRIPTION:Public Holiday NT
DTSTART;VALUE=DATE:20200724
DTEND;VALUE=DATE:20200725
LAST-MODIFIED:20200109T231732Z
SUMMARY:Public Holiday NT
URL;TYPE=URI:https://qnt.cfmeu.org.au/events/public-holiday-nt-2
END:VEVENT
BEGIN:VEVENT
UID:calendar.1012155.field_event_date_time.0@qnt.cfmeu.org.au
CREATED:20200109T231909Z
DESCRIPTION:Public Holiday NT
DTSTART;VALUE=DATE:20200803
DTEND;VALUE=DATE:20200804
LAST-MODIFIED:20200109T231909Z
SUMMARY:Public Holiday NT
URL;TYPE=URI:https://qnt.cfmeu.org.au/events/public-holiday-nt-3
END:VEVENT
BEGIN:VEVENT
UID:calendar.1012156.field_event_date_time.0@qnt.cfmeu.org.au
CREATED:20200109T232101Z
DESCRIPTION:EBA RDO
DTSTART;VALUE=DATE:20200810
DTEND;VALUE=DATE:20200811
LAST-MODIFIED:20200109T232101Z
SUMMARY:EBA RDO
URL;TYPE=URI:https://qnt.cfmeu.org.au/events/eba-rdo-72
END:VEVENT
BEGIN:VEVENT
UID:calendar.1012157.field_event_date_time.0@qnt.cfmeu.org.au
CREATED:20200109T232159Z
DESCRIPTION:Industry RDO
DTSTART;VALUE=DATE:20200810
DTEND;VALUE=DATE:20200811
LAST-MODIFIED:20200109T232159Z
SUMMARY:Industry RDO
URL;TYPE=URI:https://qnt.cfmeu.org.au/events/industry-rdo-37
END:VEVENT
BEGIN:VEVENT
UID:calendar.1012158.field_event_date_time.0@qnt.cfmeu.org.au
CREATED:20200109T232258Z
DESCRIPTION:EDO RDO
DTSTART;VALUE=DATE:20200811
DTEND;VALUE=DATE:20200812
LAST-MODIFIED:20200109T232258Z
SUMMARY:EDO RDO
URL;TYPE=URI:https://qnt.cfmeu.org.au/events/edo-rdo
END:VEVENT
BEGIN:VEVENT
UID:calendar.1012159.field_event_date_time.0@qnt.cfmeu.org.au
CREATED:20200109T232413Z
DESCRIPTION:Public Holiday Brisbane
DTSTART;VALUE=DATE:20200812
DTEND;VALUE=DATE:20200813
LAST-MODIFIED:20200109T232413Z
SUMMARY:Public Holiday Brisbane
URL;TYPE=URI:https://qnt.cfmeu.org.au/events/public-holiday-brisbane-0
END:VEVENT
BEGIN:VEVENT
UID:calendar.1012160.field_event_date_time.0@qnt.cfmeu.org.au
CREATED:20200109T232747Z
DESCRIPTION:EBA RDO
DTSTART;VALUE=DATE:20200907
DTEND;VALUE=DATE:20200908
LAST-MODIFIED:20200109T232747Z
SUMMARY:EBA RDO
URL;TYPE=URI:https://qnt.cfmeu.org.au/events/eba-rdo-73
END:VEVENT
BEGIN:VEVENT
UID:calendar.1012161.field_event_date_time.0@qnt.cfmeu.org.au
CREATED:20200109T232839Z
DESCRIPTION:Industry RDO
DTSTART;VALUE=DATE:20200907
DTEND;VALUE=DATE:20200908
LAST-MODIFIED:20200109T232839Z
SUMMARY:Industry RDO
URL;TYPE=URI:https://qnt.cfmeu.org.au/events/industry-rdo-38
END:VEVENT
BEGIN:VEVENT
UID:calendar.1012162.field_event_date_time.0@qnt.cfmeu.org.au
CREATED:20200109T233029Z
DESCRIPTION:School Holidays (QLD)
DTSTART;VALUE=DATE:20200919
DTEND;VALUE=DATE:20201006
LAST-MODIFIED:20200109T233115Z
SUMMARY:School Holidays (QLD)
URL;TYPE=URI:https://qnt.cfmeu.org.au/events/school-holidays-qld-11
END:VEVENT
BEGIN:VEVENT
UID:calendar.1012163.field_event_date_time.0@qnt.cfmeu.org.au
CREATED:20200109T233243Z
DESCRIPTION:Public Holiday (QLD)
DTSTART;VALUE=DATE:20201005
DTEND;VALUE=DATE:20201006
LAST-MODIFIED:20200109T233243Z
SUMMARY:Public Holiday (QLD)
URL;TYPE=URI:https://qnt.cfmeu.org.au/events/public-holiday-qld-0
END:VEVENT
BEGIN:VEVENT
UID:calendar.1012164.field_event_date_time.0@qnt.cfmeu.org.au
CREATED:20200109T233352Z
DESCRIPTION:EBA RDO
DTSTART;VALUE=DATE:20201006
DTEND;VALUE=DATE:20201007
LAST-MODIFIED:20200109T233352Z
SUMMARY:EBA RDO
URL;TYPE=URI:https://qnt.cfmeu.org.au/events/eba-rdo-74
END:VEVENT
BEGIN:VEVENT
UID:calendar.1012165.field_event_date_time.0@qnt.cfmeu.org.au
CREATED:20200109T233635Z
DESCRIPTION:Industry RDO
DTSTART;VALUE=DATE:20201006
DTEND;VALUE=DATE:20201007
LAST-MODIFIED:20200109T233635Z
SUMMARY:Industry RDO
URL;TYPE=URI:https://qnt.cfmeu.org.au/events/industry-rdo-39
END:VEVENT
BEGIN:VEVENT
UID:calendar.1012166.field_event_date_time.0@qnt.cfmeu.org.au
CREATED:20200109T233835Z
DESCRIPTION:EBA RDO
DTSTART;VALUE=DATE:20201102
DTEND;VALUE=DATE:20201103
LAST-MODIFIED:20200109T233835Z
SUMMARY:EBA RDO
URL;TYPE=URI:https://qnt.cfmeu.org.au/events/eba-rdo-75
END:VEVENT
BEGIN:VEVENT
UID:calendar.1012167.field_event_date_time.0@qnt.cfmeu.org.au
CREATED:20200109T233901Z
DESCRIPTION:EBA RDO
DTSTART;VALUE=DATE:20201103
DTEND;VALUE=DATE:20201104
LAST-MODIFIED:20200109T233901Z
SUMMARY:EBA RDO
URL;TYPE=URI:https://qnt.cfmeu.org.au/events/eba-rdo-76
END:VEVENT
BEGIN:VEVENT
UID:calendar.1012168.field_event_date_time.0@qnt.cfmeu.org.au
CREATED:20200109T234044Z
DESCRIPTION:Indusrty RDO
DTSTART;VALUE=DATE:20201102
DTEND;VALUE=DATE:20201103
LAST-MODIFIED:20200109T234044Z
SUMMARY:Indusrty RDO
URL;TYPE=URI:https://qnt.cfmeu.org.au/events/indusrty-rdo
END:VEVENT
BEGIN:VEVENT
UID:calendar.1012169.field_event_date_time.0@qnt.cfmeu.org.au
CREATED:20200109T234713Z
DESCRIPTION:EBA RDO
DTSTART;VALUE=DATE:20201130
DTEND;VALUE=DATE:20201201
LAST-MODIFIED:20200109T234713Z
SUMMARY:EBA RDO
URL;TYPE=URI:https://qnt.cfmeu.org.au/events/eba-rdo-77
END:VEVENT
BEGIN:VEVENT
UID:calendar.1012170.field_event_date_time.0@qnt.cfmeu.org.au
CREATED:20200109T234739Z
DESCRIPTION:Industry RDO
DTSTART;VALUE=DATE:20201130
DTEND;VALUE=DATE:20201201
LAST-MODIFIED:20200109T234739Z
SUMMARY:Industry RDO
URL;TYPE=URI:https://qnt.cfmeu.org.au/events/industry-rdo-40
END:VEVENT
BEGIN:VEVENT
UID:calendar.1012171.field_event_date_time.0@qnt.cfmeu.org.au
CREATED:20200109T234949Z
DESCRIPTION:School Holiday (QLD)
DTSTART;VALUE=DATE:20201212
DTEND;VALUE=DATE:20210126
LAST-MODIFIED:20200109T234949Z
SUMMARY:School Holiday (QLD)
URL;TYPE=URI:https://qnt.cfmeu.org.au/events/school-holiday-qld
END:VEVENT
BEGIN:VEVENT
UID:calendar.1012172.field_event_date_time.0@qnt.cfmeu.org.au
CREATED:20200109T235125Z
DESCRIPTION:EBA RDO
DTSTART;VALUE=DATE:20201221
DTEND;VALUE=DATE:20201222
LAST-MODIFIED:20200109T235125Z
SUMMARY:EBA RDO
URL;TYPE=URI:https://qnt.cfmeu.org.au/events/eba-rdo-78
END:VEVENT
BEGIN:VEVENT
UID:calendar.1012173.field_event_date_time.0@qnt.cfmeu.org.au
CREATED:20200109T235221Z
DESCRIPTION:Industry RDO
DTSTART;VALUE=DATE:20201221
DTEND;VALUE=DATE:20201222
LAST-MODIFIED:20200109T235221Z
SUMMARY:Industry RDO
URL;TYPE=URI:https://qnt.cfmeu.org.au/events/industry-rdo-41
END:VEVENT
BEGIN:VEVENT
UID:calendar.1012174.field_event_date_time.0@qnt.cfmeu.org.au
CREATED:20200109T235335Z
DESCRIPTION:EBA RDO
DTSTART;VALUE=DATE:20201222
DTEND;VALUE=DATE:20201223
LAST-MODIFIED:20200109T235335Z
SUMMARY:EBA RDO
URL;TYPE=URI:https://qnt.cfmeu.org.au/events/eba-rdo-79
END:VEVENT
BEGIN:VEVENT
UID:calendar.1012175.field_event_date_time.0@qnt.cfmeu.org.au
CREATED:20200109T235402Z
DESCRIPTION:EBA RDO
DTSTART;VALUE=DATE:20201223
DTEND;VALUE=DATE:20201224
LAST-MODIFIED:20200109T235402Z
SUMMARY:EBA RDO
URL;TYPE=URI:https://qnt.cfmeu.org.au/events/eba-rdo-80
END:VEVENT
BEGIN:VEVENT
UID:calendar.1012176.field_event_date_time.0@qnt.cfmeu.org.au
CREATED:20200109T235459Z
DESCRIPTION:EBA RDO
DTSTART;VALUE=DATE:20201224
DTEND;VALUE=DATE:20201225
LAST-MODIFIED:20200109T235459Z
SUMMARY:EBA RDO
URL;TYPE=URI:https://qnt.cfmeu.org.au/events/eba-rdo-81
END:VEVENT
BEGIN:VEVENT
UID:calendar.1012178.field_event_date_time.0@qnt.cfmeu.org.au
CREATED:20200109T235825Z
DESCRIPTION:Public Holiday
DTSTART;VALUE=DATE:20201225
DTEND;VALUE=DATE:20201226
LAST-MODIFIED:20200109T235825Z
SUMMARY:Public Holiday
URL;TYPE=URI:https://qnt.cfmeu.org.au/events/public-holiday-9
END:VEVENT
BEGIN:VEVENT
UID:calendar.1012179.field_event_date_time.0@qnt.cfmeu.org.au
CREATED:20200109T235935Z
DESCRIPTION:Public Holiday
DTSTART;VALUE=DATE:20201226
DTEND;VALUE=DATE:20201227
LAST-MODIFIED:20200109T235935Z
SUMMARY:Public Holiday
URL;TYPE=URI:https://qnt.cfmeu.org.au/events/public-holiday-10
END:VEVENT
BEGIN:VEVENT
UID:calendar.1012180.field_event_date_time.0@qnt.cfmeu.org.au
CREATED:20200110T000428Z
DESCRIPTION:Public Holiday
DTSTART;VALUE=DATE:20201228
DTEND;VALUE=DATE:20201229
LAST-MODIFIED:20200110T000428Z
SUMMARY:Public Holiday
URL;TYPE=URI:https://qnt.cfmeu.org.au/events/public-holiday-11
END:VEVENT
BEGIN:VEVENT
UID:calendar.1012181.field_event_date_time.0@qnt.cfmeu.org.au
CREATED:20200110T000605Z
DESCRIPTION:EBA RDO
DTSTART;VALUE=DATE:20201229
DTEND;VALUE=DATE:20201230
LAST-MODIFIED:20200110T000605Z
SUMMARY:EBA RDO
URL;TYPE=URI:https://qnt.cfmeu.org.au/events/eba-rdo-82
END:VEVENT
BEGIN:VEVENT
UID:calendar.1012182.field_event_date_time.0@qnt.cfmeu.org.au
CREATED:20200110T000707Z
DESCRIPTION:EBA RDO
DTSTART;VALUE=DATE:20201230
DTEND;VALUE=DATE:20201231
LAST-MODIFIED:20200110T000707Z
SUMMARY:EBA RDO
URL;TYPE=URI:https://qnt.cfmeu.org.au/events/eba-rdo-83
END:VEVENT
BEGIN:VEVENT
UID:calendar.1012183.field_event_date_time.0@qnt.cfmeu.org.au
CREATED:20200110T000730Z
DESCRIPTION:EBA RDO
DTSTART;VALUE=DATE:20201231
DTEND;VALUE=DATE:20210101
LAST-MODIFIED:20200110T000730Z
SUMMARY:EBA RDO
URL;TYPE=URI:https://qnt.cfmeu.org.au/events/eba-rdo-84
END:VEVENT
END:VCALENDAR
