BEGIN:VCALENDAR
VERSION:2.0
PRODID:-//Date iCal//NONSGML kigkonsult.se iCalcreator 2.20.2//
METHOD:PUBLISH
X-WR-CALNAME;VALUE=TEXT:CFMEU
BEGIN:VTIMEZONE
TZID:Australia/Brisbane
BEGIN:STANDARD
DTSTART:19920301T030000
TZOFFSETFROM:+1100
TZOFFSETTO:+1000
TZNAME:AEST
END:STANDARD
END:VTIMEZONE
BEGIN:VEVENT
UID:calendar.1011832.field_event_date_time.0@qnt.cfmeu.org.au
CREATED:20170728T052759Z
DESCRIPTION:School Holidays (QLD)
DTSTART;TZID=Australia/Brisbane:20171209T100000
DTEND;TZID=Australia/Brisbane:20180121T100000
LAST-MODIFIED:20170728T052759Z
SUMMARY:School Holidays (QLD)
URL;TYPE=URI:https://qnt.cfmeu.org.au/events/school-holidays-qld-0
END:VEVENT
BEGIN:VEVENT
UID:calendar.1011833.field_event_date_time.0@qnt.cfmeu.org.au
CREATED:20170728T053152Z
DESCRIPTION:New Year's Day
DTSTART;TZID=Australia/Brisbane:20180101T100000
DTEND;TZID=Australia/Brisbane:20180101T100000
LAST-MODIFIED:20170824T004138Z
SUMMARY:New Year's Day
URL;TYPE=URI:https://qnt.cfmeu.org.au/events/public-holiday-2
END:VEVENT
BEGIN:VEVENT
UID:calendar.1011834.field_event_date_time.0@qnt.cfmeu.org.au
CREATED:20170728T053540Z
DESCRIPTION:Australia Day
DTSTART;TZID=Australia/Brisbane:20180126T100000
DTEND;TZID=Australia/Brisbane:20180126T100000
LAST-MODIFIED:20170824T004858Z
SUMMARY:Australia Day
URL;TYPE=URI:https://qnt.cfmeu.org.au/events/public-holiday-3
END:VEVENT
BEGIN:VEVENT
UID:calendar.1011836.field_event_date_time.0@qnt.cfmeu.org.au
CREATED:20170728T054644Z
DESCRIPTION:Anzac Day
DTSTART;TZID=Australia/Brisbane:20180425T100000
DTEND;TZID=Australia/Brisbane:20180425T100000
LAST-MODIFIED:20170824T014618Z
SUMMARY:Anzac Day
URL;TYPE=URI:https://qnt.cfmeu.org.au/events/public-holiday-5
END:VEVENT
BEGIN:VEVENT
UID:calendar.1011837.field_event_date_time.0@qnt.cfmeu.org.au
CREATED:20170728T054828Z
DESCRIPTION:School Holidays (QLD)
DTSTART;TZID=Australia/Brisbane:20180330T100000
DTEND;TZID=Australia/Brisbane:20180416T220000
LAST-MODIFIED:20170823T061609Z
SUMMARY:School Holidays (QLD)
URL;TYPE=URI:https://qnt.cfmeu.org.au/events/school-holidays-qld-1
END:VEVENT
BEGIN:VEVENT
UID:calendar.1011905.field_event_date_time.0@qnt.cfmeu.org.au
CREATED:20170823T041325Z
DESCRIPTION:Industry RDO
DTSTART;TZID=Australia/Brisbane:20180205T100000
DTEND;TZID=Australia/Brisbane:20180205T100000
LAST-MODIFIED:20170824T005026Z
SUMMARY:Industry RDO
URL;TYPE=URI:https://qnt.cfmeu.org.au/events/industry-rdo-6
END:VEVENT
BEGIN:VEVENT
UID:calendar.1011906.field_event_date_time.0@qnt.cfmeu.org.au
CREATED:20170823T042823Z
DESCRIPTION:Industry RDO
DTSTART;TZID=Australia/Brisbane:20180305T100000
DTEND;TZID=Australia/Brisbane:20180305T100000
LAST-MODIFIED:20170824T005431Z
SUMMARY:Industry RDO
URL;TYPE=URI:https://qnt.cfmeu.org.au/events/industry-rdo-7
END:VEVENT
BEGIN:VEVENT
UID:calendar.1011907.field_event_date_time.0@qnt.cfmeu.org.au
CREATED:20170823T043112Z
DESCRIPTION:Good Friday
DTSTART;TZID=Australia/Brisbane:20180330T100000
DTEND;TZID=Australia/Brisbane:20180330T100000
LAST-MODIFIED:20170824T005617Z
SUMMARY:Good Friday
URL;TYPE=URI:https://qnt.cfmeu.org.au/events/good-friday
END:VEVENT
BEGIN:VEVENT
UID:calendar.1011909.field_event_date_time.0@qnt.cfmeu.org.au
CREATED:20170823T043658Z
DESCRIPTION:Easter Sunday QLD
DTSTART;TZID=Australia/Brisbane:20180401T100000
DTEND;TZID=Australia/Brisbane:20180401T100000
LAST-MODIFIED:20170824T005906Z
SUMMARY:Easter Sunday QLD
URL;TYPE=URI:https://qnt.cfmeu.org.au/events/easter-sunday-qld
END:VEVENT
BEGIN:VEVENT
UID:calendar.1011910.field_event_date_time.0@qnt.cfmeu.org.au
CREATED:20170823T055449Z
DESCRIPTION:Easter Monday
DTSTART;TZID=Australia/Brisbane:20180402T100000
DTEND;TZID=Australia/Brisbane:20180402T100000
LAST-MODIFIED:20170824T010121Z
SUMMARY:Easter Monday
URL;TYPE=URI:https://qnt.cfmeu.org.au/events/public-holiday-4
END:VEVENT
BEGIN:VEVENT
UID:calendar.1011914.field_event_date_time.0@qnt.cfmeu.org.au
CREATED:20170823T062302Z
DESCRIPTION:EBA RDO
DTSTART;TZID=Australia/Brisbane:20180205T100000
DTEND;TZID=Australia/Brisbane:20180205T100000
LAST-MODIFIED:20170824T005254Z
SUMMARY:EBA RDO
URL;TYPE=URI:https://qnt.cfmeu.org.au/events/eba-rdo-8
END:VEVENT
BEGIN:VEVENT
UID:calendar.1011915.field_event_date_time.0@qnt.cfmeu.org.au
CREATED:20170823T062426Z
DESCRIPTION:EBA RDO
DTSTART;TZID=Australia/Brisbane:20180305T100000
DTEND;TZID=Australia/Brisbane:20180305T100000
LAST-MODIFIED:20170824T005138Z
SUMMARY:EBA RDO
URL;TYPE=URI:https://qnt.cfmeu.org.au/events/eba-rdo-9
END:VEVENT
BEGIN:VEVENT
UID:calendar.1011916.field_event_date_time.0@qnt.cfmeu.org.au
CREATED:20170823T062838Z
DESCRIPTION:EBA RDO
DTSTART;TZID=Australia/Brisbane:20180403T100000
DTEND;TZID=Australia/Brisbane:20180403T100000
LAST-MODIFIED:20170824T014419Z
SUMMARY:EBA RDO
URL;TYPE=URI:https://qnt.cfmeu.org.au/events/eba-rdo-7
END:VEVENT
BEGIN:VEVENT
UID:calendar.1011917.field_event_date_time.0@qnt.cfmeu.org.au
CREATED:20170823T235540Z
DESCRIPTION:Easter Saturday
DTSTART;TZID=Australia/Brisbane:20180331T100000
DTEND;TZID=Australia/Brisbane:20180331T100000
LAST-MODIFIED:20170824T005737Z
SUMMARY:Easter Saturday
URL;TYPE=URI:https://qnt.cfmeu.org.au/events/public-holiday-6
END:VEVENT
BEGIN:VEVENT
UID:calendar.1011918.field_event_date_time.0@qnt.cfmeu.org.au
CREATED:20170823T235945Z
DESCRIPTION:Industry RDO
DTSTART;TZID=Australia/Brisbane:20180403T100000
DTEND;TZID=Australia/Brisbane:20180403T100000
LAST-MODIFIED:20170824T014248Z
SUMMARY:Industry RDO
URL;TYPE=URI:https://qnt.cfmeu.org.au/events/industry-rdo-8
END:VEVENT
BEGIN:VEVENT
UID:calendar.1011919.field_event_date_time.0@qnt.cfmeu.org.au
CREATED:20170824T000452Z
DESCRIPTION:Industry RDO
DTSTART;TZID=Australia/Brisbane:20180423T100000
DTEND;TZID=Australia/Brisbane:20180423T100000
LAST-MODIFIED:20170824T014515Z
SUMMARY:Industry RDO
URL;TYPE=URI:https://qnt.cfmeu.org.au/events/industry-rdo-9
END:VEVENT
BEGIN:VEVENT
UID:calendar.1011920.field_event_date_time.0@qnt.cfmeu.org.au
CREATED:20170824T000653Z
DESCRIPTION:EBA RDO
DTSTART;TZID=Australia/Brisbane:20180423T100000
DTEND;TZID=Australia/Brisbane:20180423T100000
LAST-MODIFIED:20170824T022044Z
SUMMARY:EBA RDO
URL;TYPE=URI:https://qnt.cfmeu.org.au/events/eba-rdo-10
END:VEVENT
BEGIN:VEVENT
UID:calendar.1011926.field_event_date_time.0@qnt.cfmeu.org.au
CREATED:20170824T004406Z
DESCRIPTION:EBA RDO
DTSTART;TZID=Australia/Brisbane:20180103T100000
DTEND;TZID=Australia/Brisbane:20180103T100000
LAST-MODIFIED:20170824T004406Z
SUMMARY:EBA RDO
URL;TYPE=URI:https://qnt.cfmeu.org.au/events/eba-rdo-15
END:VEVENT
BEGIN:VEVENT
UID:calendar.1011927.field_event_date_time.0@qnt.cfmeu.org.au
CREATED:20170824T004521Z
DESCRIPTION:EBA RDO
DTSTART;TZID=Australia/Brisbane:20180104T100000
DTEND;TZID=Australia/Brisbane:20180104T100000
LAST-MODIFIED:20170824T004521Z
SUMMARY:EBA RDO
URL;TYPE=URI:https://qnt.cfmeu.org.au/events/eba-rdo-16
END:VEVENT
BEGIN:VEVENT
UID:calendar.1011928.field_event_date_time.0@qnt.cfmeu.org.au
CREATED:20170824T004630Z
DESCRIPTION:EBA RDO
DTSTART;TZID=Australia/Brisbane:20180105T100000
DTEND;TZID=Australia/Brisbane:20180105T100000
LAST-MODIFIED:20170824T004630Z
SUMMARY:EBA RDO
URL;TYPE=URI:https://qnt.cfmeu.org.au/events/eba-rdo-17
END:VEVENT
BEGIN:VEVENT
UID:calendar.1011929.field_event_date_time.0@qnt.cfmeu.org.au
CREATED:20170824T021630Z
DESCRIPTION:EBA RDO
DTSTART;TZID=Australia/Brisbane:20180404T100000
DTEND;TZID=Australia/Brisbane:20180404T100000
LAST-MODIFIED:20170824T021630Z
SUMMARY:EBA RDO
URL;TYPE=URI:https://qnt.cfmeu.org.au/events/eba-rdo-18
END:VEVENT
BEGIN:VEVENT
UID:calendar.1011930.field_event_date_time.0@qnt.cfmeu.org.au
CREATED:20170824T021749Z
DESCRIPTION:EBA RDO
DTSTART;TZID=Australia/Brisbane:20180405T100000
DTEND;TZID=Australia/Brisbane:20180405T100000
LAST-MODIFIED:20170824T021749Z
SUMMARY:EBA RDO
URL;TYPE=URI:https://qnt.cfmeu.org.au/events/eba-rdo-19
END:VEVENT
BEGIN:VEVENT
UID:calendar.1011931.field_event_date_time.0@qnt.cfmeu.org.au
CREATED:20170824T021924Z
DESCRIPTION:EBA RDO
DTSTART;TZID=Australia/Brisbane:20180406T100000
DTEND;TZID=Australia/Brisbane:20180406T100000
LAST-MODIFIED:20170824T021924Z
SUMMARY:EBA RDO
URL;TYPE=URI:https://qnt.cfmeu.org.au/events/eba-rdo-20
END:VEVENT
BEGIN:VEVENT
UID:calendar.1011932.field_event_date_time.0@qnt.cfmeu.org.au
CREATED:20170824T022205Z
DESCRIPTION:EBA RDO
DTSTART;TZID=Australia/Brisbane:20180424T100000
DTEND;TZID=Australia/Brisbane:20180424T100000
LAST-MODIFIED:20170824T022205Z
SUMMARY:EBA RDO
URL;TYPE=URI:https://qnt.cfmeu.org.au/events/eba-rdo-21
END:VEVENT
BEGIN:VEVENT
UID:calendar.1011933.field_event_date_time.0@qnt.cfmeu.org.au
CREATED:20170824T022419Z
DESCRIPTION:May Day
DTSTART;TZID=Australia/Brisbane:20180507T100000
DTEND;TZID=Australia/Brisbane:20180507T100000
LAST-MODIFIED:20170824T022419Z
SUMMARY:May Day
URL;TYPE=URI:https://qnt.cfmeu.org.au/events/may-day
END:VEVENT
BEGIN:VEVENT
UID:calendar.1011934.field_event_date_time.0@qnt.cfmeu.org.au
CREATED:20170824T022537Z
DESCRIPTION:Industry RDO
DTSTART;TZID=Australia/Brisbane:20180521T100000
DTEND;TZID=Australia/Brisbane:20180521T100000
LAST-MODIFIED:20170824T022537Z
SUMMARY:Industry RDO
URL;TYPE=URI:https://qnt.cfmeu.org.au/events/industry-rdo-10
END:VEVENT
BEGIN:VEVENT
UID:calendar.1011935.field_event_date_time.0@qnt.cfmeu.org.au
CREATED:20170824T022704Z
DESCRIPTION:EBA RDO
DTSTART;TZID=Australia/Brisbane:20180521T100000
DTEND;TZID=Australia/Brisbane:20180521T100000
LAST-MODIFIED:20170824T022704Z
SUMMARY:EBA RDO
URL;TYPE=URI:https://qnt.cfmeu.org.au/events/eba-rdo-22
END:VEVENT
BEGIN:VEVENT
UID:calendar.1011936.field_event_date_time.0@qnt.cfmeu.org.au
CREATED:20170824T023259Z
DESCRIPTION:Queens Birthday NT
DTSTART;TZID=Australia/Brisbane:20180611T100000
DTEND;TZID=Australia/Brisbane:20180611T100000
LAST-MODIFIED:20170824T023259Z
SUMMARY:Queens Birthday NT
URL;TYPE=URI:https://qnt.cfmeu.org.au/events/queens-birthday-nt
END:VEVENT
BEGIN:VEVENT
UID:calendar.1011937.field_event_date_time.0@qnt.cfmeu.org.au
CREATED:20170824T023415Z
DESCRIPTION:Industry RDO
DTSTART;TZID=Australia/Brisbane:20180618T100000
DTEND;TZID=Australia/Brisbane:20180618T100000
LAST-MODIFIED:20170824T023415Z
SUMMARY:Industry RDO
URL;TYPE=URI:https://qnt.cfmeu.org.au/events/industry-rdo-11
END:VEVENT
BEGIN:VEVENT
UID:calendar.1011938.field_event_date_time.0@qnt.cfmeu.org.au
CREATED:20170824T023537Z
DESCRIPTION:EBA RDO
DTSTART;TZID=Australia/Brisbane:20180618T100000
DTEND;TZID=Australia/Brisbane:20180618T100000
LAST-MODIFIED:20170824T023537Z
SUMMARY:EBA RDO
URL;TYPE=URI:https://qnt.cfmeu.org.au/events/eba-rdo-23
END:VEVENT
BEGIN:VEVENT
UID:calendar.1011939.field_event_date_time.0@qnt.cfmeu.org.au
CREATED:20170824T023910Z
DESCRIPTION:School Holidays (QLD)
DTSTART;TZID=Australia/Brisbane:20180630T100000
DTEND;TZID=Australia/Brisbane:20180715T100000
LAST-MODIFIED:20170824T023910Z
SUMMARY:School Holidays (QLD)
URL;TYPE=URI:https://qnt.cfmeu.org.au/events/school-holidays-qld-2
END:VEVENT
BEGIN:VEVENT
UID:calendar.1011940.field_event_date_time.0@qnt.cfmeu.org.au
CREATED:20170824T024108Z
DESCRIPTION:Industry RDO
DTSTART;TZID=Australia/Brisbane:20180716T100000
DTEND;TZID=Australia/Brisbane:20180716T100000
LAST-MODIFIED:20170824T024108Z
SUMMARY:Industry RDO
URL;TYPE=URI:https://qnt.cfmeu.org.au/events/industry-rdo-12
END:VEVENT
BEGIN:VEVENT
UID:calendar.1011941.field_event_date_time.0@qnt.cfmeu.org.au
CREATED:20170824T024242Z
DESCRIPTION:EBA RDO
DTSTART;TZID=Australia/Brisbane:20180716T100000
DTEND;TZID=Australia/Brisbane:20180716T100000
LAST-MODIFIED:20170824T024242Z
SUMMARY:EBA RDO
URL;TYPE=URI:https://qnt.cfmeu.org.au/events/eba-rdo-24
END:VEVENT
BEGIN:VEVENT
UID:calendar.1011942.field_event_date_time.0@qnt.cfmeu.org.au
CREATED:20170824T024448Z
DESCRIPTION:Picnic Day NT
DTSTART;TZID=Australia/Brisbane:20180806T100000
DTEND;TZID=Australia/Brisbane:20180806T100000
LAST-MODIFIED:20170824T024448Z
SUMMARY:Picnic Day NT
URL;TYPE=URI:https://qnt.cfmeu.org.au/events/picnic-day-nt
END:VEVENT
BEGIN:VEVENT
UID:calendar.1011943.field_event_date_time.0@qnt.cfmeu.org.au
CREATED:20170824T024558Z
DESCRIPTION:Industry RDO
DTSTART;TZID=Australia/Brisbane:20180813T100000
DTEND;TZID=Australia/Brisbane:20180813T100000
LAST-MODIFIED:20170824T024558Z
SUMMARY:Industry RDO
URL;TYPE=URI:https://qnt.cfmeu.org.au/events/industry-rdo-13
END:VEVENT
BEGIN:VEVENT
UID:calendar.1011944.field_event_date_time.0@qnt.cfmeu.org.au
CREATED:20170824T024704Z
DESCRIPTION:EBA RDO
DTSTART;TZID=Australia/Brisbane:20180813T100000
DTEND;TZID=Australia/Brisbane:20180813T100000
LAST-MODIFIED:20170824T024704Z
SUMMARY:EBA RDO
URL;TYPE=URI:https://qnt.cfmeu.org.au/events/eba-rdo-25
END:VEVENT
BEGIN:VEVENT
UID:calendar.1011945.field_event_date_time.0@qnt.cfmeu.org.au
CREATED:20170824T024811Z
DESCRIPTION:EBA RDO
DTSTART;TZID=Australia/Brisbane:20180814T100000
DTEND;TZID=Australia/Brisbane:20180814T100000
LAST-MODIFIED:20170824T024811Z
SUMMARY:EBA RDO
URL;TYPE=URI:https://qnt.cfmeu.org.au/events/eba-rdo-26
END:VEVENT
BEGIN:VEVENT
UID:calendar.1011946.field_event_date_time.0@qnt.cfmeu.org.au
CREATED:20170824T024946Z
DESCRIPTION:Brisbane Ekka Show Day
DTSTART;TZID=Australia/Brisbane:20180815T100000
DTEND;TZID=Australia/Brisbane:20180815T100000
LAST-MODIFIED:20170824T024946Z
SUMMARY:Brisbane Ekka Show Day
URL;TYPE=URI:https://qnt.cfmeu.org.au/events/brisbane-ekka-show-day
END:VEVENT
BEGIN:VEVENT
UID:calendar.1011947.field_event_date_time.0@qnt.cfmeu.org.au
CREATED:20170824T025200Z
DESCRIPTION:Industry RDO
DTSTART;TZID=Australia/Brisbane:20180910T100000
DTEND;TZID=Australia/Brisbane:20180910T100000
LAST-MODIFIED:20180912T023952Z
SUMMARY:Industry RDO
URL;TYPE=URI:https://qnt.cfmeu.org.au/events/industry-rdo-14
END:VEVENT
BEGIN:VEVENT
UID:calendar.1011948.field_event_date_time.0@qnt.cfmeu.org.au
CREATED:20170824T040359Z
DESCRIPTION:EBA RDO
DTSTART;TZID=Australia/Brisbane:20180910T100000
DTEND;TZID=Australia/Brisbane:20180910T100000
LAST-MODIFIED:20170824T040359Z
SUMMARY:EBA RDO
URL;TYPE=URI:https://qnt.cfmeu.org.au/events/eba-rdo-27
END:VEVENT
BEGIN:VEVENT
UID:calendar.1011949.field_event_date_time.0@qnt.cfmeu.org.au
CREATED:20170824T041343Z
DESCRIPTION:School Holidays (QLD)
DTSTART;TZID=Australia/Brisbane:20180922T100000
DTEND;TZID=Australia/Brisbane:20181007T100000
LAST-MODIFIED:20170824T041343Z
SUMMARY:School Holidays (QLD)
URL;TYPE=URI:https://qnt.cfmeu.org.au/events/school-holidays-qld-3
END:VEVENT
BEGIN:VEVENT
UID:calendar.1011950.field_event_date_time.0@qnt.cfmeu.org.au
CREATED:20170824T041621Z
DESCRIPTION:Queens Birthday QLD
DTSTART;TZID=Australia/Brisbane:20181001T100000
DTEND;TZID=Australia/Brisbane:20181001T100000
LAST-MODIFIED:20170824T041621Z
SUMMARY:Queens Birthday QLD
URL;TYPE=URI:https://qnt.cfmeu.org.au/events/queens-birthday-qld
END:VEVENT
BEGIN:VEVENT
UID:calendar.1011951.field_event_date_time.0@qnt.cfmeu.org.au
CREATED:20170824T041744Z
DESCRIPTION:Industry RDO
DTSTART;TZID=Australia/Brisbane:20181002T100000
DTEND;TZID=Australia/Brisbane:20181002T100000
LAST-MODIFIED:20170824T041744Z
SUMMARY:Industry RDO
URL;TYPE=URI:https://qnt.cfmeu.org.au/events/industry-rdo-15
END:VEVENT
BEGIN:VEVENT
UID:calendar.1011952.field_event_date_time.0@qnt.cfmeu.org.au
CREATED:20170824T043223Z
DESCRIPTION:EBA RDO
DTSTART;TZID=Australia/Brisbane:20181002T100000
DTEND;TZID=Australia/Brisbane:20181002T100000
LAST-MODIFIED:20170824T043223Z
SUMMARY:EBA RDO
URL;TYPE=URI:https://qnt.cfmeu.org.au/events/eba-rdo-28
END:VEVENT
BEGIN:VEVENT
UID:calendar.1011953.field_event_date_time.0@qnt.cfmeu.org.au
CREATED:20170824T043403Z
DESCRIPTION:Industry RDO
DTSTART;TZID=Australia/Brisbane:20181105T100000
DTEND;TZID=Australia/Brisbane:20181105T100000
LAST-MODIFIED:20170824T043403Z
SUMMARY:Industry RDO
URL;TYPE=URI:https://qnt.cfmeu.org.au/events/industry-rdo-16
END:VEVENT
BEGIN:VEVENT
UID:calendar.1011954.field_event_date_time.0@qnt.cfmeu.org.au
CREATED:20170824T043748Z
DESCRIPTION:EBA RDO
DTSTART;TZID=Australia/Brisbane:20181106T100000
DTEND;TZID=Australia/Brisbane:20181106T100000
LAST-MODIFIED:20170824T043748Z
SUMMARY:EBA RDO
URL;TYPE=URI:https://qnt.cfmeu.org.au/events/eba-rdo-29
END:VEVENT
BEGIN:VEVENT
UID:calendar.1011956.field_event_date_time.0@qnt.cfmeu.org.au
CREATED:20170824T044749Z
DESCRIPTION:EBA RDO
DTSTART;TZID=Australia/Brisbane:20181105T100000
DTEND;TZID=Australia/Brisbane:20181105T100000
LAST-MODIFIED:20170824T044749Z
SUMMARY:EBA RDO
URL;TYPE=URI:https://qnt.cfmeu.org.au/events/eba-rdo-30
END:VEVENT
BEGIN:VEVENT
UID:calendar.1011957.field_event_date_time.0@qnt.cfmeu.org.au
CREATED:20170824T045039Z
DESCRIPTION:Industry RDO
DTSTART;TZID=Australia/Brisbane:20181203T100000
DTEND;TZID=Australia/Brisbane:20181203T100000
LAST-MODIFIED:20170824T045039Z
SUMMARY:Industry RDO
URL;TYPE=URI:https://qnt.cfmeu.org.au/events/industry-rdo-17
END:VEVENT
BEGIN:VEVENT
UID:calendar.1011958.field_event_date_time.0@qnt.cfmeu.org.au
CREATED:20170824T045252Z
DESCRIPTION:EBA RDO
DTSTART;TZID=Australia/Brisbane:20181203T100000
DTEND;TZID=Australia/Brisbane:20181203T100000
LAST-MODIFIED:20170824T045252Z
SUMMARY:EBA RDO
URL;TYPE=URI:https://qnt.cfmeu.org.au/events/eba-rdo-31
END:VEVENT
BEGIN:VEVENT
UID:calendar.1011960.field_event_date_time.0@qnt.cfmeu.org.au
CREATED:20170824T045737Z
DESCRIPTION:School Holidays (QLD)
DTSTART;TZID=Australia/Brisbane:20181215T100000
DTEND;TZID=Australia/Brisbane:20190127T100000
LAST-MODIFIED:20200109T221416Z
SUMMARY:School Holidays (QLD)
URL;TYPE=URI:https://qnt.cfmeu.org.au/events/school-holidays-qld-4
END:VEVENT
BEGIN:VEVENT
UID:calendar.1011961.field_event_date_time.0@qnt.cfmeu.org.au
CREATED:20170824T045940Z
DESCRIPTION:EBA RDO
DTSTART;TZID=Australia/Brisbane:20181224T100000
DTEND;TZID=Australia/Brisbane:20181224T100000
LAST-MODIFIED:20170824T045940Z
SUMMARY:EBA RDO
URL;TYPE=URI:https://qnt.cfmeu.org.au/events/eba-rdo-32
END:VEVENT
BEGIN:VEVENT
UID:calendar.1011962.field_event_date_time.0@qnt.cfmeu.org.au
CREATED:20170824T050055Z
DESCRIPTION:Xmas Day
DTSTART;TZID=Australia/Brisbane:20181225T100000
DTEND;TZID=Australia/Brisbane:20181225T100000
LAST-MODIFIED:20170824T050055Z
SUMMARY:Xmas Day
URL;TYPE=URI:https://qnt.cfmeu.org.au/events/xmas-day-0
END:VEVENT
BEGIN:VEVENT
UID:calendar.1011963.field_event_date_time.0@qnt.cfmeu.org.au
CREATED:20170824T050210Z
DESCRIPTION:Boxing Day
DTSTART;TZID=Australia/Brisbane:20181226T100000
DTEND;TZID=Australia/Brisbane:20181226T100000
LAST-MODIFIED:20170824T050210Z
SUMMARY:Boxing Day
URL;TYPE=URI:https://qnt.cfmeu.org.au/events/boxing-day-0
END:VEVENT
BEGIN:VEVENT
UID:calendar.1011964.field_event_date_time.0@qnt.cfmeu.org.au
CREATED:20170824T050323Z
DESCRIPTION:EBA RDO
DTSTART;TZID=Australia/Brisbane:20181227T100000
DTEND;TZID=Australia/Brisbane:20181227T100000
LAST-MODIFIED:20170824T050323Z
SUMMARY:EBA RDO
URL;TYPE=URI:https://qnt.cfmeu.org.au/events/eba-rdo-33
END:VEVENT
BEGIN:VEVENT
UID:calendar.1011965.field_event_date_time.0@qnt.cfmeu.org.au
CREATED:20170824T050436Z
DESCRIPTION:EBA RDO
DTSTART;TZID=Australia/Brisbane:20181228T100000
DTEND;TZID=Australia/Brisbane:20181228T100000
LAST-MODIFIED:20170824T050436Z
SUMMARY:EBA RDO
URL;TYPE=URI:https://qnt.cfmeu.org.au/events/eba-rdo-34
END:VEVENT
BEGIN:VEVENT
UID:calendar.1011966.field_event_date_time.0@qnt.cfmeu.org.au
CREATED:20170824T050551Z
DESCRIPTION:EBA RDO
DTSTART;TZID=Australia/Brisbane:20181231T100000
DTEND;TZID=Australia/Brisbane:20181231T100000
LAST-MODIFIED:20170824T050551Z
SUMMARY:EBA RDO
URL;TYPE=URI:https://qnt.cfmeu.org.au/events/eba-rdo-35
END:VEVENT
BEGIN:VEVENT
UID:calendar.1012001.field_event_date_time.0@qnt.cfmeu.org.au
CREATED:20180111T020140Z
DESCRIPTION:Bi-Monthly Delegates Meeting
DTSTART;VALUE=DATE:20180201
DTEND;VALUE=DATE:20180202
LAST-MODIFIED:20180111T020319Z
SUMMARY:Bi-Monthly Delegates Meeting
URL;TYPE=URI:https://qnt.cfmeu.org.au/events/bi-monthly-delegates-meeting
END:VEVENT
BEGIN:VEVENT
UID:calendar.1012002.field_event_date_time.0@qnt.cfmeu.org.au
CREATED:20180111T021413Z
DESCRIPTION:Delegates Convention (2 day event)
DTSTART;VALUE=DATE:20180607
DTEND;VALUE=DATE:20180609
LAST-MODIFIED:20180111T021523Z
SUMMARY:Delegates Convention (2 day event)
URL;TYPE=URI:https://qnt.cfmeu.org.au/events/delegates-convention-2-day-eve
 nt
END:VEVENT
BEGIN:VEVENT
UID:calendar.1012003.field_event_date_time.0@qnt.cfmeu.org.au
CREATED:20180111T021734Z
DESCRIPTION:Bi-Monthly Delegates
DTSTART;VALUE=DATE:20180802
DTEND;VALUE=DATE:20180803
LAST-MODIFIED:20180111T021734Z
SUMMARY:Bi-Monthly Delegates
URL;TYPE=URI:https://qnt.cfmeu.org.au/events/bi-monthly-delegates
END:VEVENT
BEGIN:VEVENT
UID:calendar.1012004.field_event_date_time.0@qnt.cfmeu.org.au
CREATED:20180111T021923Z
DESCRIPTION:POSTPONED Bi-Monthly Delegates (2.10.18 POSTPONED)
DTSTART;VALUE=DATE:20181004
DTEND;VALUE=DATE:20181005
LAST-MODIFIED:20181002T225636Z
SUMMARY:POSTPONED Bi-Monthly Delegates (2.10.18 POSTPONED)
URL;TYPE=URI:https://qnt.cfmeu.org.au/events/postponed-bi-monthly-delegates
 -21018-postponed
END:VEVENT
BEGIN:VEVENT
UID:calendar.1012005.field_event_date_time.0@qnt.cfmeu.org.au
CREATED:20180111T022127Z
DESCRIPTION:Bi-Monthly Delegates
DTSTART;VALUE=DATE:20181206
DTEND;VALUE=DATE:20181207
LAST-MODIFIED:20180111T022127Z
SUMMARY:Bi-Monthly Delegates
URL;TYPE=URI:https://qnt.cfmeu.org.au/events/bi-monthly-delegates-1
END:VEVENT
BEGIN:VEVENT
UID:calendar.1012006.field_event_date_time.0@qnt.cfmeu.org.au
CREATED:20180111T022431Z
DESCRIPTION:Brisbane Sub-Branch Meeting
DTSTART;TZID=Australia/Brisbane:20180306T173000
DTEND;TZID=Australia/Brisbane:20180306T193000
LAST-MODIFIED:20180111T022431Z
SUMMARY:Brisbane Sub-Branch Meeting
URL;TYPE=URI:https://qnt.cfmeu.org.au/events/brisbane-sub-branch-meeting
END:VEVENT
BEGIN:VEVENT
UID:calendar.1012007.field_event_date_time.0@qnt.cfmeu.org.au
CREATED:20180111T022549Z
DESCRIPTION:Brisbane Sub-Branch Meeting
DTSTART;TZID=Australia/Brisbane:20180501T173000
DTEND;TZID=Australia/Brisbane:20180501T193000
LAST-MODIFIED:20180111T022549Z
SUMMARY:Brisbane Sub-Branch Meeting
URL;TYPE=URI:https://qnt.cfmeu.org.au/events/brisbane-sub-branch-meeting-0
END:VEVENT
BEGIN:VEVENT
UID:calendar.1012008.field_event_date_time.0@qnt.cfmeu.org.au
CREATED:20180111T022722Z
DESCRIPTION:Brisbane Sub-Branch Meeting
DTSTART;TZID=Australia/Brisbane:20180904T173000
DTEND;TZID=Australia/Brisbane:20180904T193000
LAST-MODIFIED:20180111T022722Z
SUMMARY:Brisbane Sub-Branch Meeting
URL;TYPE=URI:https://qnt.cfmeu.org.au/events/brisbane-sub-branch-meeting-1
END:VEVENT
BEGIN:VEVENT
UID:calendar.1012009.field_event_date_time.0@qnt.cfmeu.org.au
CREATED:20180111T023115Z
DESCRIPTION:Brisbane Sub-Branch Meeting
DTSTART;TZID=Australia/Brisbane:20181113T173000
DTEND;TZID=Australia/Brisbane:20181113T193000
LAST-MODIFIED:20180111T023115Z
SUMMARY:Brisbane Sub-Branch Meeting
URL;TYPE=URI:https://qnt.cfmeu.org.au/events/brisbane-sub-branch-meeting-2
END:VEVENT
BEGIN:VEVENT
UID:calendar.1012016.field_event_date_time.0@qnt.cfmeu.org.au
CREATED:20180404T045158Z
DESCRIPTION:Workers Memorial Day Ceremony
DTSTART;TZID=Australia/Brisbane:20180427T100000
DTEND;TZID=Australia/Brisbane:20180427T130000
LAST-MODIFIED:20180405T232740Z
SUMMARY:Workers Memorial Day Ceremony
URL;TYPE=URI:https://qnt.cfmeu.org.au/events/workers-memorial-day-ceremony
END:VEVENT
BEGIN:VEVENT
UID:calendar.1012102.field_event_date_time.0@qnt.cfmeu.org.au
CREATED:20181026T030128Z
DESCRIPTION:Rescheduled Bi-Monthly Delegates Meeting
DTSTART;TZID=Australia/Brisbane:20181108T070000
DTEND;TZID=Australia/Brisbane:20181108T130045
LAST-MODIFIED:20181026T030128Z
SUMMARY:Rescheduled Bi-Monthly Delegates Meeting
URL;TYPE=URI:https://qnt.cfmeu.org.au/events/rescheduled-bi-monthly-delegat
 es-meeting
END:VEVENT
BEGIN:VEVENT
UID:calendar.1012103.field_event_date_time.0@qnt.cfmeu.org.au
CREATED:20181107T233030Z
DESCRIPTION:BRISBANE RALLY - Change The Rules
DTSTART;TZID=Australia/Brisbane:20181120T123000
DTEND;TZID=Australia/Brisbane:20181120T143000
LAST-MODIFIED:20181107T233155Z
SUMMARY:BRISBANE RALLY - Change The Rules
URL;TYPE=URI:https://qnt.cfmeu.org.au/events/brisbane-rally-change-rules
END:VEVENT
END:VCALENDAR
